BEGIN:VCALENDAR
VERSION:2.0
METHOD:PUBLISH
PRODID:-//Agenda.ad//NONSGML v1.0//EN
BEGIN:VEVENT
CLASS:PUBLIC
UID:053d8f77cd078c5ee7fb54ff7858fca5@agenda.ad
DTSTAMP:20260419T190203Z
DTSTART:20260308T230000Z
DTEND:20260308T230000Z
SUMMARY:Presentaci&oacute;&nbsp; de l'exposici&oacute; 'Misez su la couleur'
DESCRIPTION:\n\nMés informació\nhttps://www.agenda.ad/activitat/escald
 es-engordany/exposicions/presentacio -de-l-exposicio-misez-
 su-la-couleur-\n
LOCATION:Hotel Roc Blanc
SEQUENCE:0
TRANSP:OPAQUE
X-ALT-DESC;FMTTYPE=text/html:<!DOCTYPE HTML PUBLIC "-//W3C//DTD HTML 3.2//EN"><HTML><HEAD
 ><TITLE></TITLE></HEAD><BODY><FONT FACE="Arial" SIZE=2><br/>
 <br/><b>Més informació</b><br/><a href="https://www.agenda
 .ad/activitat/escaldes-engordany/exposicions/presentacio -d
 e-l-exposicio-misez-su-la-couleur-">https://www.agenda.ad/ac
 tivitat/escaldes-engordany/exposicions/presentacio -de-l-ex
 posicio-misez-su-la-couleur-</a><br/></FONT></BODY></HTML>
END:VEVENT
END:VCALENDAR